BEGIN:VCALENDAR
VERSION:2.0
PRODID:-//Sanderling Homes Association - ECPv6.15.7//NONSGML v1.0//EN
CALSCALE:GREGORIAN
METHOD:PUBLISH
X-ORIGINAL-URL:https://sanderlinghomes.org
X-WR-CALDESC:Events for Sanderling Homes Association
REFRESH-INTERVAL;VALUE=DURATION:PT1H
X-Robots-Tag:noindex
X-PUBLISHED-TTL:PT1H
BEGIN:VTIMEZONE
TZID:America/New_York
BEGIN:DAYLIGHT
TZOFFSETFROM:-0500
TZOFFSETTO:-0400
TZNAME:EDT
DTSTART:20220313T070000
END:DAYLIGHT
BEGIN:STANDARD
TZOFFSETFROM:-0400
TZOFFSETTO:-0500
TZNAME:EST
DTSTART:20221106T060000
END:STANDARD
BEGIN:DAYLIGHT
TZOFFSETFROM:-0500
TZOFFSETTO:-0400
TZNAME:EDT
DTSTART:20230312T070000
END:DAYLIGHT
BEGIN:STANDARD
TZOFFSETFROM:-0400
TZOFFSETTO:-0500
TZNAME:EST
DTSTART:20231105T060000
END:STANDARD
BEGIN:DAYLIGHT
TZOFFSETFROM:-0500
TZOFFSETTO:-0400
TZNAME:EDT
DTSTART:20240310T070000
END:DAYLIGHT
BEGIN:STANDARD
TZOFFSETFROM:-0400
TZOFFSETTO:-0500
TZNAME:EST
DTSTART:20241103T060000
END:STANDARD
END:VTIMEZONE
BEGIN:VEVENT
DTSTART;TZID=America/New_York:20230527T100000
DTEND;TZID=America/New_York:20230527T113000
DTSTAMP:20260421T160404
CREATED:20230503T122814Z
LAST-MODIFIED:20230503T123126Z
UID:1212-1685181600-1685187000@sanderlinghomes.org
SUMMARY:Special Meeting May 27\, 2023\, 10:00 am Town of Duck Meeting Hall
DESCRIPTION:SHA Members Only! Sorry\, but you do not have permission to view this content. To view this content you must be a registered SHA Member on this website & logged in.
URL:https://sanderlinghomes.org/event/special-meeting-may-27-2023-1000-am-town-of-duck-meeting-hall/
END:VEVENT
END:VCALENDAR