BEGIN:VCALENDAR
VERSION:2.0
PRODID:-//Sanderling Homes Association - ECPv6.15.7//NONSGML v1.0//EN
CALSCALE:GREGORIAN
METHOD:PUBLISH
X-ORIGINAL-URL:https://sanderlinghomes.org
X-WR-CALDESC:Events for Sanderling Homes Association
REFRESH-INTERVAL;VALUE=DURATION:PT1H
X-Robots-Tag:noindex
X-PUBLISHED-TTL:PT1H
BEGIN:VTIMEZONE
TZID:America/New_York
BEGIN:DAYLIGHT
TZOFFSETFROM:-0500
TZOFFSETTO:-0400
TZNAME:EDT
DTSTART:20230312T070000
END:DAYLIGHT
BEGIN:STANDARD
TZOFFSETFROM:-0400
TZOFFSETTO:-0500
TZNAME:EST
DTSTART:20231105T060000
END:STANDARD
BEGIN:DAYLIGHT
TZOFFSETFROM:-0500
TZOFFSETTO:-0400
TZNAME:EDT
DTSTART:20240310T070000
END:DAYLIGHT
BEGIN:STANDARD
TZOFFSETFROM:-0400
TZOFFSETTO:-0500
TZNAME:EST
DTSTART:20241103T060000
END:STANDARD
BEGIN:DAYLIGHT
TZOFFSETFROM:-0500
TZOFFSETTO:-0400
TZNAME:EDT
DTSTART:20250309T070000
END:DAYLIGHT
BEGIN:STANDARD
TZOFFSETFROM:-0400
TZOFFSETTO:-0500
TZNAME:EST
DTSTART:20251102T060000
END:STANDARD
BEGIN:DAYLIGHT
TZOFFSETFROM:-0500
TZOFFSETTO:-0400
TZNAME:EDT
DTSTART:20260308T070000
END:DAYLIGHT
BEGIN:STANDARD
TZOFFSETFROM:-0400
TZOFFSETTO:-0500
TZNAME:EST
DTSTART:20261101T060000
END:STANDARD
BEGIN:DAYLIGHT
TZOFFSETFROM:-0500
TZOFFSETTO:-0400
TZNAME:EDT
DTSTART:20270314T070000
END:DAYLIGHT
BEGIN:STANDARD
TZOFFSETFROM:-0400
TZOFFSETTO:-0500
TZNAME:EST
DTSTART:20271107T060000
END:STANDARD
END:VTIMEZONE
BEGIN:VEVENT
DTSTART;TZID=America/New_York:20241123T093000
DTEND;TZID=America/New_York:20241123T110000
DTSTAMP:20260420T223546
CREATED:20240305T201619Z
LAST-MODIFIED:20241117T144736Z
UID:1862-1732354200-1732359600@sanderlinghomes.org
SUMMARY:SHA Board Meeting 11-23-2024
DESCRIPTION:SHA Members Only! Sorry\, but you do not have permission to view this content. To view this content you must be a registered SHA Member on this website & logged in.
URL:https://sanderlinghomes.org/event/sha-board-meeting-11-23-2024/
END:VEVENT
BEGIN:VEVENT
DTSTART;TZID=America/New_York:20250329T093000
DTEND;TZID=America/New_York:20250329T113000
DTSTAMP:20260420T223546
CREATED:20250325T110824Z
LAST-MODIFIED:20250325T110824Z
UID:2229-1743240600-1743247800@sanderlinghomes.org
SUMMARY:SHA Board Meeting March 29\, 2025
DESCRIPTION:SHA Members Only! Sorry\, but you do not have permission to view this content. To view this content you must be a registered SHA Member on this website & logged in.
URL:https://sanderlinghomes.org/event/sha-board-meeting-march-29-2025/
END:VEVENT
BEGIN:VEVENT
DTSTART;TZID=America/New_York:20250510T093000
DTEND;TZID=America/New_York:20250510T110000
DTSTAMP:20260420T223546
CREATED:20250422T184753Z
LAST-MODIFIED:20250505T204504Z
UID:2262-1746869400-1746874800@sanderlinghomes.org
SUMMARY:SHA Board Meeting 5-10-2025
DESCRIPTION:SHA Members Only! Sorry\, but you do not have permission to view this content. To view this content you must be a registered SHA Member on this website & logged in.
URL:https://sanderlinghomes.org/event/sha-board-meeting-5-10-2025/
END:VEVENT
BEGIN:VEVENT
DTSTART;TZID=America/New_York:20250913T093000
DTEND;TZID=America/New_York:20250913T110000
DTSTAMP:20260420T223546
CREATED:20250911T214459Z
LAST-MODIFIED:20250911T214459Z
UID:2312-1757755800-1757761200@sanderlinghomes.org
SUMMARY:SHA Board Meeting 9-13-2025
DESCRIPTION:SHA Members Only! Sorry\, but you do not have permission to view this content. To view this content you must be a registered SHA Member on this website & logged in.
URL:https://sanderlinghomes.org/event/sha-board-meeting-9-13-2025/
END:VEVENT
BEGIN:VEVENT
DTSTART;TZID=America/New_York:20251011T100000
DTEND;TZID=America/New_York:20251011T120000
DTSTAMP:20260420T223546
CREATED:20250814T182532Z
LAST-MODIFIED:20250928T223202Z
UID:2307-1760176800-1760184000@sanderlinghomes.org
SUMMARY:SHA Annual Membership Meeting 10-11-2025
DESCRIPTION:SHA Members Only! Sorry\, but you do not have permission to view this content. To view this content you must be a registered SHA Member on this website & logged in.
URL:https://sanderlinghomes.org/event/sha-annual-membership-meeting-10-11-2025/
END:VEVENT
BEGIN:VEVENT
DTSTART;TZID=America/New_York:20251122T093000
DTEND;TZID=America/New_York:20251122T110000
DTSTAMP:20260420T223546
CREATED:20250911T214837Z
LAST-MODIFIED:20251111T132324Z
UID:2315-1763803800-1763809200@sanderlinghomes.org
SUMMARY:SHA Board Meeting 11-22-2025
DESCRIPTION:SHA Members Only! Sorry\, but you do not have permission to view this content. To view this content you must be a registered SHA Member on this website & logged in.
URL:https://sanderlinghomes.org/event/sha-board-meeting-11-22-2025/
END:VEVENT
BEGIN:VEVENT
DTSTART;TZID=America/New_York:20260314T093000
DTEND;TZID=America/New_York:20260314T110000
DTSTAMP:20260420T223546
CREATED:20260313T201634Z
LAST-MODIFIED:20260313T201634Z
UID:2424-1773480600-1773486000@sanderlinghomes.org
SUMMARY:SHA Board Meeting 3-14-2026
DESCRIPTION:SHA Members Only! Sorry\, but you do not have permission to view this content. To view this content you must be a registered SHA Member on this website & logged in.
URL:https://sanderlinghomes.org/event/sha-board-meeting-11-22-2025-2/
END:VEVENT
END:VCALENDAR