BEGIN:VCALENDAR
VERSION:2.0
PRODID:-//Sanderling Homes Association - ECPv6.15.7//NONSGML v1.0//EN
CALSCALE:GREGORIAN
METHOD:PUBLISH
X-WR-CALNAME:Sanderling Homes Association
X-ORIGINAL-URL:https://sanderlinghomes.org
X-WR-CALDESC:Events for Sanderling Homes Association
REFRESH-INTERVAL;VALUE=DURATION:PT1H
X-Robots-Tag:noindex
X-PUBLISHED-TTL:PT1H
BEGIN:VTIMEZONE
TZID:America/New_York
BEGIN:DAYLIGHT
TZOFFSETFROM:-0500
TZOFFSETTO:-0400
TZNAME:EDT
DTSTART:20210314T070000
END:DAYLIGHT
BEGIN:STANDARD
TZOFFSETFROM:-0400
TZOFFSETTO:-0500
TZNAME:EST
DTSTART:20211107T060000
END:STANDARD
BEGIN:DAYLIGHT
TZOFFSETFROM:-0500
TZOFFSETTO:-0400
TZNAME:EDT
DTSTART:20220313T070000
END:DAYLIGHT
BEGIN:STANDARD
TZOFFSETFROM:-0400
TZOFFSETTO:-0500
TZNAME:EST
DTSTART:20221106T060000
END:STANDARD
BEGIN:DAYLIGHT
TZOFFSETFROM:-0500
TZOFFSETTO:-0400
TZNAME:EDT
DTSTART:20230312T070000
END:DAYLIGHT
BEGIN:STANDARD
TZOFFSETFROM:-0400
TZOFFSETTO:-0500
TZNAME:EST
DTSTART:20231105T060000
END:STANDARD
END:VTIMEZONE
BEGIN:VEVENT
DTSTART;TZID=America/New_York:20221126T093000
DTEND;TZID=America/New_York:20221126T113000
DTSTAMP:20260420T123515
CREATED:20220120T224745Z
LAST-MODIFIED:20220120T225757Z
UID:481-1669455000-1669462200@sanderlinghomes.org
SUMMARY:Board Meeting 11-26-2022
DESCRIPTION:
URL:https://sanderlinghomes.org/event/board-meeting-11-26-2022/
LOCATION:SRSC-Multi-Purpose Room
END:VEVENT
BEGIN:VEVENT
DTSTART;TZID=America/New_York:20221125T130000
DTEND;TZID=America/New_York:20221125T160000
DTSTAMP:20260420T123515
CREATED:20210826T161426Z
LAST-MODIFIED:20221125T132558Z
UID:137-1669381200-1669392000@sanderlinghomes.org
SUMMARY:Annual Oyster Roast
DESCRIPTION:SHA Members\,\nThe Annual Homeowners Oyster Roast is still on schedule to be held this Friday\, November 25\, 2022 (new time) 1:00pm to 4:00pm.\nANNUAL SANDERLING HOMEOWNERS OYSTER ROAST\nFriday\, November 25\, 2022\n1:00 PM – 4:00 PM Sandpiper Cove\, Cul De Sac \n  \nOYSTERS*BAR-B-QUE*HAMBURGERS*HOT DOGS*SOFT DRINKS*WINE*BEER \nBRING A POT LUCK DISH\, OYSTER SHUCKERS & GLOVES\nODD NUMBERED LOTS – SALAD OR CASSEROLE(USE LOT NUMBER – NOT YOUR ADDRESS)EVEN NUMBERED LOTS – DESSERTS \nPRICE\nADULTS $15.00\, KIDS 12 AND UNDER $5.00 \nKIDS 5 AND UNDER FREE
URL:https://sanderlinghomes.org/event/annual-oyster-roast/
END:VEVENT
BEGIN:VEVENT
DTSTART;TZID=America/New_York:20221008T100000
DTEND;TZID=America/New_York:20221008T120000
DTSTAMP:20260420T123515
CREATED:20220120T224622Z
LAST-MODIFIED:20220911T224001Z
UID:478-1665223200-1665230400@sanderlinghomes.org
SUMMARY:Annual Owners Meeting 10-8-2022
DESCRIPTION:  \nTO:         MEMBERS OF THE SANDERLING HOMES ASSOCIATION\, INC. \nDATE:    SEPTEMBER 10\, 2022 \nRE:          NOTICE OF THE ANNUAL MEETING OF THE SANDERLING  HOMES ASSOCIATION\, INC. \n  \nNotice is hereby given that the Forty Fifth Annual Meeting of the Sanderling Homes Association\, Inc. (The Association) will be held at The Town of Duck’s Town Hall – Community/Meeting Hall\, 1200 Duck Road\, Duck\, North Carolina on October 8\, 2022 at 10:00 am Eastern Daylight Time\, for the following purposes: \n  \n\nTo elect members of the Board of Directors in accordance with Article VII\, Section 1 of the Bylaws and to designate a time and place of a meeting of the Board of Directors.\n\n  \n\nTransact such other business as may properly come before the meeting and any adjournment or adjournments thereof.\n\n  \nThe determination of the members entitled to notice and to vote at the meeting shall be determined as of the close of business on September 9\, 2022\, the last business day preceding this Mailing. \n  \nThe Board strongly recommends all members return a proxy to assure a quorum. Please sign\, date and return the accompanying form of proxy in the preaddressed envelope by October 3\, 2022.  You may also scan and return your signed and dated proxy via email by sending to info@sanderlinghomes.org.  If you attend in person\, your vote that day shall be used in lieu of the proxy. \n  \nAGENDA \n  \nRoll Call \nProof of Notice of Meeting or Waiver of Notice \nReport of Officers \nReport of Committees \n2023 Budget \nElection of Members of the Board of Directors \nUnfinished Business \nNew Business \nAdjournment \n  \nMarc Steimer \nPresident \n 
URL:https://sanderlinghomes.org/event/annual-meeting-10-8-2022/
END:VEVENT
BEGIN:VEVENT
DTSTART;TZID=America/New_York:20220903T093000
DTEND;TZID=America/New_York:20220903T113000
DTSTAMP:20260420T123515
CREATED:20220120T224404Z
LAST-MODIFIED:20220816T225529Z
UID:475-1662197400-1662204600@sanderlinghomes.org
SUMMARY:Board Meeting 9-3-2022
DESCRIPTION:
URL:https://sanderlinghomes.org/event/board-meeting-9-3-2022/
LOCATION:SRSC-Multi-Purpose Room
END:VEVENT
BEGIN:VEVENT
DTSTART;TZID=America/New_York:20220528T093000
DTEND;TZID=America/New_York:20220528T113000
DTSTAMP:20260420T123515
CREATED:20220120T224158Z
LAST-MODIFIED:20220120T225617Z
UID:471-1653730200-1653737400@sanderlinghomes.org
SUMMARY:Board Meeting 5-28-2022
DESCRIPTION:
URL:https://sanderlinghomes.org/event/board-meeting-5-28-2022/
LOCATION:SRSC-Multi-Purpose Room
END:VEVENT
BEGIN:VEVENT
DTSTART;TZID=America/New_York:20220326T093000
DTEND;TZID=America/New_York:20220326T113000
DTSTAMP:20260420T123515
CREATED:20220120T223612Z
LAST-MODIFIED:20220322T010809Z
UID:467-1648287000-1648294200@sanderlinghomes.org
SUMMARY:Board Meeting 3-26-2022
DESCRIPTION:AGENDA – SHA BOARD MEETING \nMarch 26\, 2022 \n  \nThe meeting will be held at 9:30 am 1578 Duck Rd.\, Sanderling Racquet and Swim Club’s Multi-Purpose Room. \n  \n\n Call to order.\n\n  \n\n Approval of the minutes for November 27\, 2021\, Board Meeting.\n\n  \n\n Reports:\n\n  \n      ACC  \n      Common Properties \n      Landscaping  \n      Treasurer \n      Long Range Planning \n      Governing Documents \n      Nominations             \n      Emergency Committee \n      Oyster Roast Committee           \n  \n\n SHA Board – 2022 Project List / Goals\n\n\nGoverning Documents\nBeach crossover standardization / Henry’s Ad-Hoc Committee\n\n  \n\n Old Business \n\n\nSanderling Sign – updating / cost sharing with SPOA (John Park)\n2023 – Board elections \n\n  \n\n New Business\n\n\nBegin dialogue regarding short term rentals / consortium owners who use internet or APPS to rent / event rentals (Marc).\n\n  \n\n Adjournment.
URL:https://sanderlinghomes.org/event/board-meeting-3-26-2022/
LOCATION:SRSC-Multi-Purpose Room
END:VEVENT
END:VCALENDAR