BEGIN:VCALENDAR
VERSION:2.0
PRODID:-//Sanderling Homes Association - ECPv6.15.7//NONSGML v1.0//EN
CALSCALE:GREGORIAN
METHOD:PUBLISH
X-WR-CALNAME:Sanderling Homes Association
X-ORIGINAL-URL:https://sanderlinghomes.org
X-WR-CALDESC:Events for Sanderling Homes Association
REFRESH-INTERVAL;VALUE=DURATION:PT1H
X-Robots-Tag:noindex
X-PUBLISHED-TTL:PT1H
BEGIN:VTIMEZONE
TZID:America/New_York
BEGIN:DAYLIGHT
TZOFFSETFROM:-0500
TZOFFSETTO:-0400
TZNAME:EDT
DTSTART:20230312T070000
END:DAYLIGHT
BEGIN:STANDARD
TZOFFSETFROM:-0400
TZOFFSETTO:-0500
TZNAME:EST
DTSTART:20231105T060000
END:STANDARD
BEGIN:DAYLIGHT
TZOFFSETFROM:-0500
TZOFFSETTO:-0400
TZNAME:EDT
DTSTART:20240310T070000
END:DAYLIGHT
BEGIN:STANDARD
TZOFFSETFROM:-0400
TZOFFSETTO:-0500
TZNAME:EST
DTSTART:20241103T060000
END:STANDARD
BEGIN:DAYLIGHT
TZOFFSETFROM:-0500
TZOFFSETTO:-0400
TZNAME:EDT
DTSTART:20250309T070000
END:DAYLIGHT
BEGIN:STANDARD
TZOFFSETFROM:-0400
TZOFFSETTO:-0500
TZNAME:EST
DTSTART:20251102T060000
END:STANDARD
END:VTIMEZONE
BEGIN:VEVENT
DTSTART;TZID=America/New_York:20241123T093000
DTEND;TZID=America/New_York:20241123T110000
DTSTAMP:20260420T164239
CREATED:20240305T201619Z
LAST-MODIFIED:20241117T144736Z
UID:1862-1732354200-1732359600@sanderlinghomes.org
SUMMARY:SHA Board Meeting 11-23-2024
DESCRIPTION:SHA Members Only! Sorry\, but you do not have permission to view this content. To view this content you must be a registered SHA Member on this website & logged in.
URL:https://sanderlinghomes.org/event/sha-board-meeting-11-23-2024/
END:VEVENT
END:VCALENDAR